BEGIN:VCALENDAR
VERSION:2.0
PRODID:-//Queer Cultural Center - ECPv6.15.20//NONSGML v1.0//EN
CALSCALE:GREGORIAN
METHOD:PUBLISH
X-WR-CALNAME:Queer Cultural Center
X-ORIGINAL-URL:https://queerculturalcenter.org
X-WR-CALDESC:Events for Queer Cultural Center
REFRESH-INTERVAL;VALUE=DURATION:PT1H
X-Robots-Tag:noindex
X-PUBLISHED-TTL:PT1H
BEGIN:VTIMEZONE
TZID:UTC
BEGIN:STANDARD
TZOFFSETFROM:+0000
TZOFFSETTO:+0000
TZNAME:UTC
DTSTART:20150101T000000
END:STANDARD
END:VTIMEZONE
BEGIN:VEVENT
DTSTART;TZID=UTC:20160623T200000
DTEND;TZID=UTC:20160623T220000
DTSTAMP:20260425T033402
CREATED:20160426T181844Z
LAST-MODIFIED:20160428T185909Z
UID:15322-1466712000-1466719200@queerculturalcenter.org
SUMMARY:Perverts Put Out
DESCRIPTION:Center for Sex and Culture Presents\nPerverts Put Out\nJune 23rd\, doors at 7:00\, show at 8:00\nCenter for Sex & Culture\, 1349 Mission\n$10-25 sliding scale \nMore information at www.sexandculture.org \nSan Francisco’s oldest running performance series\, an all-gender\, all-orientation celebration of lust and love\, celebrates a special Pride Week edition\, featuring a roster of outstanding perverted performers\, hosted by Dr. Carol Queen and Simon Sheppard. \nARTISTS
URL:https://queerculturalcenter.org/event/pervertsputout/
LOCATION:Center for Sex and Culture\, 1349 Mission Street\, San Francisco\, CA\, United States
CATEGORIES:NQAF2016,PerformanceArt2016,SpokenWord2016
ATTACH;FMTTYPE=image/jpeg:https://queerculturalcenter.org/wp-content/uploads/2016/04/945613499_5133b24041_o.jpg
END:VEVENT
BEGIN:VEVENT
DTSTART;TZID=UTC:20160618T190000
DTEND;TZID=UTC:20160618T200000
DTSTAMP:20260425T033402
CREATED:20160424T201904Z
LAST-MODIFIED:20160505T211251Z
UID:15024-1466276400-1466280000@queerculturalcenter.org
SUMMARY:Queeriosity
DESCRIPTION:Youth Speaks presents\nQueeriosity\nJune 18\nSOMArts\, 7pm \nFREE \nMore information: http://youthspeaks.org/performances/queeriosity/ \nYouth Speaks first presented Queeriosity in 1999\, the brainchild of two young members of the organization. As part of our ongoing campaign to celebrate young people in the Bay Area\, and to give a space for those who are too marginalized to speak\, Queeriosity is a place for a diverse population of queer youth and their allies to come together and declare themselves present and unafraid. \nThe Queeriosity 2016 theme is Answering Our Ancestors. This year our intention is to pay our deep respects to 4 queer literary ancestors whose work and lives still make ripples in our present day queer intergenerational aesthetics. Queeriosity 2016 is an intimate conversation our youth and featured adult artists would like to have with these 4 ancestors. \nJames Baldwin.\nOctavia Butler.\nJustin Chin.\nGloria Anzaldua. \nQueeriosity is a place for queer and questioning youth to simply be\, and have their emerging artistic and activist voices celebrated. In partnership with the National Queer Arts Festival\, Queeriosity is an annual spoken word and performing arts showcase for LGBTQQ youth\, highlighting the voices of a diverse San Francisco Bay Area. It is for all of us that don’t and won’t fit the cookie cutter rubrics of American love and sexuality. If you’ve ever felt your identity overcrowding the boxes\, Queeriosity is for you. \n \nDiscipline: Spoken Word/Lit
URL:https://queerculturalcenter.org/event/queeriosity/
LOCATION:SOMArts\, address\, San Francisco\, United States
CATEGORIES:Lit2016,NQAF2016,SpokenWord2016
ATTACH;FMTTYPE=image/jpeg:https://queerculturalcenter.org/wp-content/uploads/2016/04/flyer_Queeriosity-Square-front.jpg
END:VEVENT
BEGIN:VEVENT
DTSTART;TZID=UTC:20160607T073000
DTEND;TZID=UTC:20160607T213000
DTSTAMP:20260425T033402
CREATED:20160425T184459Z
LAST-MODIFIED:20160607T201156Z
UID:15173-1465284600-1465335000@queerculturalcenter.org
SUMMARY:Blues Arrival – Stories of The Queer Black South & Migration
DESCRIPTION:Audaciously Speaking & QCC presents\nBlues Arrival – Stories of The Queer Black South & Migration\nJune 8\nEASTSIDE\, 7PM\nThe 9:30PM show has been cancelled\nAudacious IAM \nTickets: $12-$20 (sliding scale NOTA)\nBrown Paper Tickets Link for 7pm show: http://www.brownpapertickets.com/event/2546257Brown Paper Tickets Link for 9:30pm show: http://www.brownpapertickets.com/event/2552391 \nMore information: www.audaciousiam.com \nWhat do you know about the Black Queer South? \nBlues Arrival is about to take you on a road trip of southern Black Queer culture\, identity and migration. Our stories are what connect us. Blues Arrival gives us the opportunity to take part in the stories of a marginalized community to create awareness and share knowledge about Black Queer culture in the South. Featuring Trey Amos\, Dazie Grego\, Vernon Keeve III\, Valerie Troutt’s MoonCandy Live House Ensemble and more. \nThis artistic compilation allows its audience members to gain a collected appreciation of the journey and survival of the 21st Century Queer Black Southern migration to progressive cities while seeking liberation and self-expression. \nThrough storytelling\, spoken word and performances\, we give a voice to so many that have been silenced. In one night\, Blues Arrival explores the intersections of identity\, religion\, race\, and migration never before heard stories from the anticipated published anthology. \nARTISTS’ BIOGRAPHIES \nDiscipline: Lit/Spoken Word \nCreating Queer Community
URL:https://queerculturalcenter.org/event/blues-arrival-stories-of-the-queer-black-south-migration/
LOCATION:Eastside Arts Alliance\, 2277 International Blvd @ 23rd\, Oakland\, CA\, United States
CATEGORIES:CQC2016,Lit2016,NQAF2016,SpokenWord2016
ATTACH;FMTTYPE=image/jpeg:https://queerculturalcenter.org/wp-content/uploads/2016/04/blues_arrival_800x800-1.jpg
END:VEVENT
END:VCALENDAR